BEGIN:VCALENDAR
VERSION:2.0
PRODID:SchoolNow
CALSCALE:GREGORIAN
BEGIN:VEVENT
UID:0915f84e-3a9f-11f1-9c3e-0a58a9feac02
DTSTAMP:20260421T100017Z
SUMMARY:JH Softball Rockwood @ S.F. @ 4:30pm
URL;VALUE=URI:https://www.rockwoodschools.org/calendar/9001550/jh-softball-
 rockwood-s-f-4-30pm
DTSTART:20260421T203000Z
DTEND:20260421T223000Z
END:VEVENT
END:VCALENDAR
