BEGIN:VCALENDAR
VERSION:2.0
PRODID:SchoolNow
CALSCALE:GREGORIAN
BEGIN:VEVENT
UID:0915fd58-3a9f-11f1-b22b-0a58a9feac02
DTSTAMP:20260421T100017Z
SUMMARY:JH Baseball Rockwood @ S.F. @ 4:30pm
URL;VALUE=URI:https://www.rockwoodschools.org/calendar/9001551/jh-baseball-
 rockwood-s-f-4-30pm
DTSTART:20260421T203000Z
DTEND:20260421T223000Z
END:VEVENT
END:VCALENDAR
